BEGIN:VCALENDAR
VERSION:2.0
PRODID:-//jEvents 2.0 for Joomla//EN
CALSCALE:GREGORIAN
METHOD:PUBLISH
BEGIN:VTIMEZONE
TZID:Europe/Berlin
BEGIN:STANDARD
DTSTART:20231029T020000
RDATE:20240331T030000
TZOFFSETFROM:+0200
TZOFFSETTO:+0100
TZNAME:Europe/Berlin CET
END:STANDARD
BEGIN:STANDARD
DTSTART:20241027T020000
RDATE:20250330T030000
TZOFFSETFROM:+0200
TZOFFSETTO:+0100
TZNAME:Europe/Berlin CET
END:STANDARD
BEGIN:STANDARD
DTSTART:20251026T020000
RDATE:20260329T030000
TZOFFSETFROM:+0200
TZOFFSETTO:+0100
TZNAME:Europe/Berlin CET
END:STANDARD
BEGIN:STANDARD
DTSTART:20261025T020000
RDATE:20270328T030000
TZOFFSETFROM:+0200
TZOFFSETTO:+0100
TZNAME:Europe/Berlin CET
END:STANDARD
BEGIN:STANDARD
DTSTART:20271031T020000
RDATE:20280326T030000
TZOFFSETFROM:+0200
TZOFFSETTO:+0100
TZNAME:Europe/Berlin CET
END:STANDARD
BEGIN:STANDARD
DTSTART:20281029T020000
RDATE:20290325T030000
TZOFFSETFROM:+0200
TZOFFSETTO:+0100
TZNAME:Europe/Berlin CET
END:STANDARD
BEGIN:STANDARD
DTSTART:20291028T020000
RDATE:20300331T030000
TZOFFSETFROM:+0200
TZOFFSETTO:+0100
TZNAME:Europe/Berlin CET
END:STANDARD
BEGIN:STANDARD
DTSTART:20301027T020000
RDATE:20310330T030000
TZOFFSETFROM:+0200
TZOFFSETTO:+0100
TZNAME:Europe/Berlin CET
END:STANDARD
BEGIN:STANDARD
DTSTART:20311026T020000
RDATE:20320328T030000
TZOFFSETFROM:+0200
TZOFFSETTO:+0100
TZNAME:Europe/Berlin CET
END:STANDARD
BEGIN:DAYLIGHT
DTSTART:20231023T193000
RDATE:20231029T020000
TZOFFSETFROM:+0100
TZOFFSETTO:+0200
TZNAME:Europe/Berlin CEST
END:DAYLIGHT
BEGIN:DAYLIGHT
DTSTART:20240331T030000
RDATE:20241027T020000
TZOFFSETFROM:+0100
TZOFFSETTO:+0200
TZNAME:Europe/Berlin CEST
END:DAYLIGHT
BEGIN:DAYLIGHT
DTSTART:20250330T030000
RDATE:20251026T020000
TZOFFSETFROM:+0100
TZOFFSETTO:+0200
TZNAME:Europe/Berlin CEST
END:DAYLIGHT
BEGIN:DAYLIGHT
DTSTART:20260329T030000
RDATE:20261025T020000
TZOFFSETFROM:+0100
TZOFFSETTO:+0200
TZNAME:Europe/Berlin CEST
END:DAYLIGHT
BEGIN:DAYLIGHT
DTSTART:20270328T030000
RDATE:20271031T020000
TZOFFSETFROM:+0100
TZOFFSETTO:+0200
TZNAME:Europe/Berlin CEST
END:DAYLIGHT
BEGIN:DAYLIGHT
DTSTART:20280326T030000
RDATE:20281029T020000
TZOFFSETFROM:+0100
TZOFFSETTO:+0200
TZNAME:Europe/Berlin CEST
END:DAYLIGHT
BEGIN:DAYLIGHT
DTSTART:20290325T030000
RDATE:20291028T020000
TZOFFSETFROM:+0100
TZOFFSETTO:+0200
TZNAME:Europe/Berlin CEST
END:DAYLIGHT
BEGIN:DAYLIGHT
DTSTART:20300331T030000
RDATE:20301027T020000
TZOFFSETFROM:+0100
TZOFFSETTO:+0200
TZNAME:Europe/Berlin CEST
END:DAYLIGHT
BEGIN:DAYLIGHT
DTSTART:20310330T030000
RDATE:20311026T020000
TZOFFSETFROM:+0100
TZOFFSETTO:+0200
TZNAME:Europe/Berlin CEST
END:DAYLIGHT
END:VTIMEZONE
BEGIN:VEVENT
UID:f8becbeed0bf9195c5eb3273b0839fd8
CATEGORIES:Gemeindesaal
CREATED:20240915T111909
SUMMARY:LF-6/10 Gymnastik
DESCRIPTION:
DTSTAMP:20260422T103301
DTSTART;TZID=Europe/Berlin:20241023T193000
SEQUENCE:0
RRULE:FREQ=WEEKLY;UNTIL=20241205T000000Z;INTERVAL=1;BYDAY=WE
EXDATE;TZID=Europe/Berlin:20241204T193000
TRANSP:OPAQUE
END:VEVENT
BEGIN:VEVENT
UID:f8becbeed0bf9195c5eb3273b0839fd8
CATEGORIES:Gemeindesaal
CREATED:20240915T111909
SUMMARY:LF-2/10 Gymnastik
DESCRIPTION:
URL;VALUE=URI:https://amlishagen.de/index.php/amlishagen/kalender/eventdetail/893/-/lf-2-
 10-gymnastik?tmpl=component

DTSTAMP:20260422T103301
DTSTART;TZID=Europe/Berlin:20240925T193000
DTEND;TZID=Europe/Berlin:20240925T235959
RECURRENCE-ID;TZID=Europe/Berlin:20240925T193000
SEQUENCE:0
TRANSP:OPAQUE
END:VEVENT
BEGIN:VEVENT
UID:f8becbeed0bf9195c5eb3273b0839fd8
CATEGORIES:Gemeindesaal
CREATED:20240915T111909
SUMMARY:LF-3/10 Gymnastik
DESCRIPTION:
URL;VALUE=URI:https://amlishagen.de/index.php/amlishagen/kalender/eventdetail/894/-/lf-3-
 10-gymnastik?tmpl=component

DTSTAMP:20260422T103301
DTSTART;TZID=Europe/Berlin:20241002T193000
DTEND;TZID=Europe/Berlin:20241002T235959
RECURRENCE-ID;TZID=Europe/Berlin:20241002T193000
SEQUENCE:0
TRANSP:OPAQUE
END:VEVENT
BEGIN:VEVENT
UID:f8becbeed0bf9195c5eb3273b0839fd8
CATEGORIES:Gemeindesaal
CREATED:20240915T111909
SUMMARY:LF-4/10 Gymnastik
DESCRIPTION:
URL;VALUE=URI:https://amlishagen.de/index.php/amlishagen/kalender/eventdetail/895/-/lf-4-
 10-gymnastik?tmpl=component

DTSTAMP:20260422T103301
DTSTART;TZID=Europe/Berlin:20241009T193000
DTEND;TZID=Europe/Berlin:20241009T235959
RECURRENCE-ID;TZID=Europe/Berlin:20241009T193000
SEQUENCE:0
TRANSP:OPAQUE
END:VEVENT
BEGIN:VEVENT
UID:f8becbeed0bf9195c5eb3273b0839fd8
CATEGORIES:Gemeindesaal
CREATED:20240915T111909
SUMMARY:LF-5/10 Gymnastik
DESCRIPTION:
URL;VALUE=URI:https://amlishagen.de/index.php/amlishagen/kalender/eventdetail/896/-/lf-5-
 10-gymnastik?tmpl=component

DTSTAMP:20260422T103301
DTSTART;TZID=Europe/Berlin:20241016T193000
DTEND;TZID=Europe/Berlin:20241016T235959
RECURRENCE-ID;TZID=Europe/Berlin:20241016T193000
SEQUENCE:0
TRANSP:OPAQUE
END:VEVENT
BEGIN:VEVENT
UID:f8becbeed0bf9195c5eb3273b0839fd8
CATEGORIES:Gemeindesaal
CREATED:20240915T111909
SUMMARY:LF-6/10 Gymnastik
DESCRIPTION:
URL;VALUE=URI:https://amlishagen.de/index.php/amlishagen/kalender/eventdetail/897/-/lf-6-
 10-gymnastik?tmpl=component

DTSTAMP:20260422T103301
DTSTART;TZID=Europe/Berlin:20241023T193000
DTEND;TZID=Europe/Berlin:20241023T235959
RECURRENCE-ID;TZID=Europe/Berlin:20241023T193000
SEQUENCE:0
TRANSP:OPAQUE
END:VEVENT
BEGIN:VEVENT
UID:f8becbeed0bf9195c5eb3273b0839fd8
CATEGORIES:Gemeindesaal
CREATED:20240915T111909
SUMMARY:LF-7/10 Gymnastik
DESCRIPTION:
URL;VALUE=URI:https://amlishagen.de/index.php/amlishagen/kalender/eventdetail/898/-/lf-7-
 10-gymnastik?tmpl=component

DTSTAMP:20260422T103301
DTSTART;TZID=Europe/Berlin:20241030T193000
DTEND;TZID=Europe/Berlin:20241030T235959
RECURRENCE-ID;TZID=Europe/Berlin:20241030T193000
SEQUENCE:0
TRANSP:OPAQUE
END:VEVENT
BEGIN:VEVENT
UID:f8becbeed0bf9195c5eb3273b0839fd8
CATEGORIES:Gemeindesaal
CREATED:20240915T111909
SUMMARY:LF-8/10 Gymnastik
DESCRIPTION:
URL;VALUE=URI:https://amlishagen.de/index.php/amlishagen/kalender/eventdetail/899/-/lf-8-
 10-gymnastik?tmpl=component

DTSTAMP:20260422T103301
DTSTART;TZID=Europe/Berlin:20241106T193000
DTEND;TZID=Europe/Berlin:20241106T235959
RECURRENCE-ID;TZID=Europe/Berlin:20241106T193000
SEQUENCE:0
TRANSP:OPAQUE
END:VEVENT
BEGIN:VEVENT
UID:f8becbeed0bf9195c5eb3273b0839fd8
CATEGORIES:Gemeindesaal
CREATED:20240915T111909
SUMMARY:LF-9/10 Gymnastik
DESCRIPTION:
URL;VALUE=URI:https://amlishagen.de/index.php/amlishagen/kalender/eventdetail/900/-/lf-9-
 10-gymnastik?tmpl=component

DTSTAMP:20260422T103301
DTSTART;TZID=Europe/Berlin:20241113T193000
DTEND;TZID=Europe/Berlin:20241113T235959
RECURRENCE-ID;TZID=Europe/Berlin:20241113T193000
SEQUENCE:0
TRANSP:OPAQUE
END:VEVENT
BEGIN:VEVENT
UID:f8becbeed0bf9195c5eb3273b0839fd8
CATEGORIES:Gemeindesaal
CREATED:20240915T111909
SUMMARY:LF-10/10 Gymnastik
DESCRIPTION:
URL;VALUE=URI:https://amlishagen.de/index.php/amlishagen/kalender/eventdetail/901/-/lf-10
 -10-gymnastik?tmpl=component

DTSTAMP:20260422T103301
DTSTART;TZID=Europe/Berlin:20241120T193000
DTEND;TZID=Europe/Berlin:20241120T235959
RECURRENCE-ID;TZID=Europe/Berlin:20241120T193000
SEQUENCE:0
TRANSP:OPAQUE
END:VEVENT
BEGIN:VEVENT
UID:f8becbeed0bf9195c5eb3273b0839fd8
CATEGORIES:Gemeindesaal
CREATED:20240915T111909
SUMMARY:LF-11/10 Gymnastik
DESCRIPTION:
URL;VALUE=URI:https://amlishagen.de/index.php/amlishagen/kalender/eventdetail/902/-/lf-11
 -10-gymnastik?tmpl=component

DTSTAMP:20260422T103301
DTSTART;TZID=Europe/Berlin:20241127T193000
DTEND;TZID=Europe/Berlin:20241127T235959
RECURRENCE-ID;TZID=Europe/Berlin:20241127T193000
SEQUENCE:0
TRANSP:OPAQUE
END:VEVENT
END:VCALENDAR