BEGIN:VCALENDAR
VERSION:2.0
PRODID:-//jEvents 2.0 for Joomla//EN
CALSCALE:GREGORIAN
METHOD:PUBLISH
BEGIN:VTIMEZONE
TZID:Europe/Berlin
BEGIN:STANDARD
DTSTART:20231029T020000
RDATE:20240331T030000
TZOFFSETFROM:+0200
TZOFFSETTO:+0100
TZNAME:Europe/Berlin CET
END:STANDARD
BEGIN:STANDARD
DTSTART:20241027T020000
RDATE:20250330T030000
TZOFFSETFROM:+0200
TZOFFSETTO:+0100
TZNAME:Europe/Berlin CET
END:STANDARD
BEGIN:STANDARD
DTSTART:20251026T020000
RDATE:20260329T030000
TZOFFSETFROM:+0200
TZOFFSETTO:+0100
TZNAME:Europe/Berlin CET
END:STANDARD
BEGIN:STANDARD
DTSTART:20261025T020000
RDATE:20270328T030000
TZOFFSETFROM:+0200
TZOFFSETTO:+0100
TZNAME:Europe/Berlin CET
END:STANDARD
BEGIN:STANDARD
DTSTART:20271031T020000
RDATE:20280326T030000
TZOFFSETFROM:+0200
TZOFFSETTO:+0100
TZNAME:Europe/Berlin CET
END:STANDARD
BEGIN:STANDARD
DTSTART:20281029T020000
RDATE:20290325T030000
TZOFFSETFROM:+0200
TZOFFSETTO:+0100
TZNAME:Europe/Berlin CET
END:STANDARD
BEGIN:STANDARD
DTSTART:20291028T020000
RDATE:20300331T030000
TZOFFSETFROM:+0200
TZOFFSETTO:+0100
TZNAME:Europe/Berlin CET
END:STANDARD
BEGIN:STANDARD
DTSTART:20301027T020000
RDATE:20310330T030000
TZOFFSETFROM:+0200
TZOFFSETTO:+0100
TZNAME:Europe/Berlin CET
END:STANDARD
BEGIN:STANDARD
DTSTART:20311026T020000
RDATE:20320328T030000
TZOFFSETFROM:+0200
TZOFFSETTO:+0100
TZNAME:Europe/Berlin CET
END:STANDARD
BEGIN:DAYLIGHT
DTSTART:20230923T180000
RDATE:20231029T020000
TZOFFSETFROM:+0100
TZOFFSETTO:+0200
TZNAME:Europe/Berlin CEST
END:DAYLIGHT
BEGIN:DAYLIGHT
DTSTART:20240331T030000
RDATE:20241027T020000
TZOFFSETFROM:+0100
TZOFFSETTO:+0200
TZNAME:Europe/Berlin CEST
END:DAYLIGHT
BEGIN:DAYLIGHT
DTSTART:20250330T030000
RDATE:20251026T020000
TZOFFSETFROM:+0100
TZOFFSETTO:+0200
TZNAME:Europe/Berlin CEST
END:DAYLIGHT
BEGIN:DAYLIGHT
DTSTART:20260329T030000
RDATE:20261025T020000
TZOFFSETFROM:+0100
TZOFFSETTO:+0200
TZNAME:Europe/Berlin CEST
END:DAYLIGHT
BEGIN:DAYLIGHT
DTSTART:20270328T030000
RDATE:20271031T020000
TZOFFSETFROM:+0100
TZOFFSETTO:+0200
TZNAME:Europe/Berlin CEST
END:DAYLIGHT
BEGIN:DAYLIGHT
DTSTART:20280326T030000
RDATE:20281029T020000
TZOFFSETFROM:+0100
TZOFFSETTO:+0200
TZNAME:Europe/Berlin CEST
END:DAYLIGHT
BEGIN:DAYLIGHT
DTSTART:20290325T030000
RDATE:20291028T020000
TZOFFSETFROM:+0100
TZOFFSETTO:+0200
TZNAME:Europe/Berlin CEST
END:DAYLIGHT
BEGIN:DAYLIGHT
DTSTART:20300331T030000
RDATE:20301027T020000
TZOFFSETFROM:+0100
TZOFFSETTO:+0200
TZNAME:Europe/Berlin CEST
END:DAYLIGHT
BEGIN:DAYLIGHT
DTSTART:20310330T030000
RDATE:20311026T020000
TZOFFSETFROM:+0100
TZOFFSETTO:+0200
TZNAME:Europe/Berlin CEST
END:DAYLIGHT
END:VTIMEZONE
BEGIN:VEVENT
UID:6e451a89111d07d131ecb2dff2c269da
CATEGORIES:Gemeindesaal
CREATED:19700101T010000
SUMMARY:LF-1/10 Qigong
DESCRIPTION:
DTSTAMP:20260422T063704
DTSTART;TZID=Europe/Berlin:20240923T180000
DTEND;TZID=Europe/Berlin:20240923T210000
SEQUENCE:0
RRULE:FREQ=WEEKLY;UNTIL=20241126T000000Z;INTERVAL=1;BYDAY=MO
EXDATE;TZID=Europe/Berlin:20240930T180000,20241014T180000
TRANSP:OPAQUE
END:VEVENT
BEGIN:VEVENT
UID:6e451a89111d07d131ecb2dff2c269da
CATEGORIES:Gemeindesaal
CREATED:20240915T111154
SUMMARY:LF-3/10 Qigong
DESCRIPTION:
URL;VALUE=URI:https://amlishagen.de/index.php/amlishagen/kalender/eventdetail/875/-/lf-3-
 10-qigong?tmpl=component

DTSTAMP:20260422T063704
DTSTART;TZID=Europe/Berlin:20241007T180000
DTEND;TZID=Europe/Berlin:20241007T210000
RECURRENCE-ID;TZID=Europe/Berlin:20241007T180000
SEQUENCE:0
TRANSP:OPAQUE
END:VEVENT
BEGIN:VEVENT
UID:6e451a89111d07d131ecb2dff2c269da
CATEGORIES:Gemeindesaal
CREATED:20240915T111154
SUMMARY:LF-5/10 Qigong
DESCRIPTION:
URL;VALUE=URI:https://amlishagen.de/index.php/amlishagen/kalender/eventdetail/877/-/lf-5-
 10-qigong?tmpl=component

DTSTAMP:20260422T063704
DTSTART;TZID=Europe/Berlin:20241021T180000
DTEND;TZID=Europe/Berlin:20241021T210000
RECURRENCE-ID;TZID=Europe/Berlin:20241021T180000
SEQUENCE:0
TRANSP:OPAQUE
END:VEVENT
BEGIN:VEVENT
UID:6e451a89111d07d131ecb2dff2c269da
CATEGORIES:Gemeindesaal
CREATED:20240915T111154
SUMMARY:LF-6/10 Qigong
DESCRIPTION:
URL;VALUE=URI:https://amlishagen.de/index.php/amlishagen/kalender/eventdetail/878/-/lf-6-
 10-qigong?tmpl=component

DTSTAMP:20260422T063704
DTSTART;TZID=Europe/Berlin:20241028T180000
DTEND;TZID=Europe/Berlin:20241028T210000
RECURRENCE-ID;TZID=Europe/Berlin:20241028T180000
SEQUENCE:0
TRANSP:OPAQUE
END:VEVENT
BEGIN:VEVENT
UID:6e451a89111d07d131ecb2dff2c269da
CATEGORIES:Gemeindesaal
CREATED:20240915T111154
SUMMARY:LF-7/10 Qigong
DESCRIPTION:
URL;VALUE=URI:https://amlishagen.de/index.php/amlishagen/kalender/eventdetail/879/-/lf-7-
 10-qigong?tmpl=component

DTSTAMP:20260422T063704
DTSTART;TZID=Europe/Berlin:20241104T180000
DTEND;TZID=Europe/Berlin:20241104T210000
RECURRENCE-ID;TZID=Europe/Berlin:20241104T180000
SEQUENCE:0
TRANSP:OPAQUE
END:VEVENT
BEGIN:VEVENT
UID:6e451a89111d07d131ecb2dff2c269da
CATEGORIES:Gemeindesaal
CREATED:20240915T111154
SUMMARY:LF-9/10 Qigong
DESCRIPTION:
URL;VALUE=URI:https://amlishagen.de/index.php/amlishagen/kalender/eventdetail/881/-/lf-9-
 10-qigong?tmpl=component

DTSTAMP:20260422T063704
DTSTART;TZID=Europe/Berlin:20241118T180000
DTEND;TZID=Europe/Berlin:20241118T210000
RECURRENCE-ID;TZID=Europe/Berlin:20241118T180000
SEQUENCE:0
TRANSP:OPAQUE
END:VEVENT
BEGIN:VEVENT
UID:6e451a89111d07d131ecb2dff2c269da
CATEGORIES:Gemeindesaal
CREATED:20240915T111154
SUMMARY:LF-10/10 Qigong
DESCRIPTION:
URL;VALUE=URI:https://amlishagen.de/index.php/amlishagen/kalender/eventdetail/882/-/lf-10
 -10-qigong?tmpl=component

DTSTAMP:20260422T063704
DTSTART;TZID=Europe/Berlin:20241125T180000
DTEND;TZID=Europe/Berlin:20241125T210000
RECURRENCE-ID;TZID=Europe/Berlin:20241125T180000
SEQUENCE:0
TRANSP:OPAQUE
END:VEVENT
BEGIN:VEVENT
UID:6e451a89111d07d131ecb2dff2c269da
CATEGORIES:Gemeindesaal
CREATED:20240915T111154
SUMMARY:LF-8/10 Qigong
DESCRIPTION:
URL;VALUE=URI:https://amlishagen.de/index.php/amlishagen/kalender/eventdetail/880/-/lf-8-
 10-qigong?tmpl=component

DTSTAMP:20260422T063704
DTSTART;TZID=Europe/Berlin:20241111T180000
DTEND;TZID=Europe/Berlin:20241111T210000
RECURRENCE-ID;TZID=Europe/Berlin:20241111T180000
SEQUENCE:0
TRANSP:OPAQUE
END:VEVENT
END:VCALENDAR